BEGIN:VCALENDAR
VERSION:2.0
PRODID:-//ChamberMaster//Event Calendar 2.0//EN
METHOD:PUBLISH
X-PUBLISHED-TTL:P3D
REFRESH-INTERVAL:P3D
CALSCALE:GREGORIAN
BEGIN:VEVENT
DTSTART:20200309T223000Z
DTEND:20200310T020000Z
X-MICROSOFT-CDO-ALLDAYEVENT:FALSE
SUMMARY:(POSTPONED to OTC) "Best of the Year 2019 Awards Ceremony"
DESCRIPTION:"Best of the Year 2019 Awards Ceremony"\n\nUpdate - Monday\, March 2\, 2020\nIn light of developing circumstances\, the event Bratecc 'Best of the Year 2019 Awards Ceremony' scheduled to take place in Houston\, Monday\, March 9 is being postponed and will occur during our Traditional Bratecc OTC Breakfast event. Click here for more information on the OTC event.\n\nDue to the growing concern about the COVID-19 coronavirus\, the World Health Organization recently raised its threat level to 'very high'\; resulting in the cancellation of CERAWeek 2020. As an organization\, we place high importance in the safety of those attending our events. Therefore\, we have made the difficult decision to postpone the awards ceremony.\n\nWe fully intend to host the awards ceremony during OTC week along with our traditional 'Bratecc Offshore Breakfast'. We are working with the Board and partners to finalize the details and will share more information in the coming weeks.\n\nIn the meantime\, if you are a sponsor or have already registered\, you may retain your sponsorship/registration for the OTC event or you can contact us in order to request a refund. (contact@braziltexas.org)\n\nWe thank everyone for the commitment to our events and for your understanding during this time.\n\nSincerely\,\n\n \n\nUlisses Sperandio\, President\, Bratecc\n\nCid Silveira\, Executive Director\, Bratecc\n\nHelder Waiandt\, Events Committee Chairperson\, Bratecc
X-ALT-DESC;FMTTYPE=text/html:<div style="color: rgb(94\, 98\, 98)\; font-family: Verdana\, Geneva\, sans-serif\; font-size: 14px\; white-space: pre-wrap\; text-align: center\;">\n<div style="color: rgb(64\, 63\, 66)\; font-family: Calibri\, Helvetica\, Arial\, sans-serif\; font-size: 14px\; white-space: pre-wrap\; text-align: left\;">\n<div style="color: rgb(113\, 122\, 128)\; font-family: Calibri\, Helvetica\, Arial\, sans-serif\; font-size: 24px\; font-weight: 700\; text-align: center\; white-space: pre-wrap\;"><span style="font-size:24px\;"><span style="color: rgb(79\, 85\, 90)\;">&quot\;Best of the Year 2019 Awards Ceremony&quot\;</span></span><br />\n<span style="font-size: 22px\; color: rgb(64\, 63\, 66)\; font-weight: normal\;">Update - <span style="font-size:20px\;">Monday\, March 2\, 2020</span></span></div>\n<span new="" style="font-size: 16px\; font-family: Cambria\, Georgia\, " times="">In light of developing circumstances\, the event Bratecc &#39\;Best of the Year 2019 Awards Ceremony&#39\; scheduled to take place in Houston\, Monday\, March 9 is being postponed and will occur during our Traditional Bratecc OTC Breakfast event. </span><a href="https://business.braziltexas.org/events/details/bratecc-offshore-breakfast-2020-38">Click here</a> for more information on the OTC event.</div>\n\n<div style="color: rgb(64\, 63\, 66)\; font-family: Calibri\, Helvetica\, Arial\, sans-serif\; font-size: 14px\; white-space: pre-wrap\; text-align: left\;"><span new="" style="font-size: 16px\; font-family: Cambria\, Georgia\, " times="">Due to the growing concern about the COVID-19 coronavirus\, the World Health Organization recently raised its threat level to &#39\;very high&#39\;\; resulting in the cancellation of CERAWeek 2020. As an organization\, we place high importance in the safety of those attending our events. Therefore\, we have made the difficult decision to postpone the awards ceremony.</span></div>\n\n<div style="color: rgb(64\, 63\, 66)\; font-family: Calibri\, Helvetica\, Arial\, sans-serif\; font-size: 14px\; white-space: pre-wrap\; text-align: left\;"><span new="" style="font-size: 16px\; font-family: Cambria\, Georgia\, " times="">We fully intend to host the awards ceremony during OTC week along with our traditional &#39\;Bratecc Offshore Breakfast&#39\;. We are working with the Board and partners to finalize the details and will share more information in the coming weeks.</span></div>\n\n<div style="color: rgb(64\, 63\, 66)\; font-family: Calibri\, Helvetica\, Arial\, sans-serif\; font-size: 14px\; white-space: pre-wrap\; text-align: left\;"><span new="" style="font-size: 16px\; font-family: Cambria\, Georgia\, " times="">In the meantime\, if you are a sponsor or have already registered\, you may retain your sponsorship/registration for the OTC event or you can contact us in order to request a refund. (</span><a data-link-type="email" href="mailto:contact@braziltexas.org" new="" style="color: rgb(35\, 62\, 120)\; font-size: 16px\; font-family: Cambria\, Georgia\, " target="_blank" times="">contact@braziltexas.org</a><span new="" style="font-size: 16px\; font-family: Cambria\, Georgia\, " times="">)</span></div>\n\n<div style="color: rgb(64\, 63\, 66)\; font-family: Calibri\, Helvetica\, Arial\, sans-serif\; font-size: 14px\; white-space: pre-wrap\; text-align: left\;"><span new="" style="font-size: 16px\; font-family: Cambria\, Georgia\, " times="">We thank everyone for the commitment to our events and for your understanding during this time.</span></div>\n\n<div style="color: rgb(64\, 63\, 66)\; font-family: Calibri\, Helvetica\, Arial\, sans-serif\; font-size: 14px\; white-space: pre-wrap\; text-align: left\;"><span style="font-size:16px\;">Sincerely\,<br />\n&nbsp\;<br />\nUlisses Sperandio\, President\, Bratecc<br />\nCid Silveira\, Executive Director\, Bratecc<br />\nHelder Waiandt\, Events Committee Chairperson\, Bratecc</span></div>\n</div>\n
LOCATION:Petroleum Club
UID:e.3095.26
SEQUENCE:3
DTSTAMP:20260419T215554Z
URL:https://business.braziltexas.org/events/details/postponed-to-otc-best-of-the-year-2019-awards-ceremony-26
END:VEVENT

END:VCALENDAR
