BEGIN:VCALENDAR
VERSION:2.0
PRODID:-//ChamberMaster//Event Calendar 2.0//EN
METHOD:PUBLISH
X-PUBLISHED-TTL:P3D
REFRESH-INTERVAL:P3D
CALSCALE:GREGORIAN
BEGIN:VEVENT
DTSTART:20220502T230000Z
DTEND:20220503T010000Z
X-MICROSOFT-CDO-ALLDAYEVENT:FALSE
SUMMARY:BRATECC Cocktail Reception "In Honor of ANP Director-General Rodolfo Henrique de Saboia"
DESCRIPTION:BRATECC Cocktail Reception in Honor of ANP Director-General Rodolfo Henrique de Saboia\n\n\n\nOn May 2nd\, 2022\, the Brazil-Texas Chamber of Commerce honored Mr. Rodolfo Henrique de Saboia\, Director-General of ANP   Brazilian Petroleum\, Natural Gas and Biofuels Agency. In addition to that\, we also had the honor to have Adrian Garcia\, Harris County Commissioner\, Amb. Todd Chapman\, Former U.S. Ambassador to Brazil (ret.) | BRATEC Advisory Board Members\, BRATECC President Ulisses Sperandio\, and BRATECC Honorary President Amb. Maria Izabel Vieira\, Consul General of the Consulate of Brazil in Houston\; and we have a official message from Amb. Nestor Forster\, Brazilian Ambassador to the United States in Washington \n\n\n\nThe full-house event was for Brazil-Texas Chamber of Commerce non-members and members\, including CEO's and directors of the most important groups in the Oil & Gas sector\, such as United Airlines\, ExxonMobil\, Shell\, BP\, TotalEnergies\, Schlumberger\, Edison Chouest Offshore Group\, Sapura\, OceanPact\, Bradesco\, Chevron\, and others.\n\n\n\nBRATECC Continued to Foster Investments in Brazil with Sen. Rogerio Carvalho\, Senator of Brazil for the State of Sergipe\, who attended the networking event and brought news about the opportunities of investments in the energy sector and especially natural gas\, in the State of Sergipe.\n\n\n\nWrote  by Daniel Zambrano.
X-ALT-DESC;FMTTYPE=text/html:<br />\n<strong>BRATECC Cocktail Reception in Honor of ANP Director-General Rodolfo Henrique de Saboia</strong><br />\n<br />\nOn May 2nd\, 2022\, the Brazil-Texas Chamber of Commerce honored Mr. Rodolfo Henrique de Saboia\, Director-General of ANP &ndash\; Brazilian Petroleum\, Natural Gas and Biofuels Agency. In addition to that\, we also had the honor to have Adrian Garcia\, Harris County Commissioner\, Amb. Todd Chapman\, Former U.S. Ambassador to Brazil (ret.) | BRATEC Advisory Board Members\, BRATECC President Ulisses Sperandio\, and BRATECC Honorary President Amb. Maria Izabel Vieira\, Consul General of the Consulate of Brazil in Houston\; and we have a official message from Amb. Nestor Forster\, Brazilian Ambassador to the United States in Washington&nbsp\;<br />\n<br />\nThe full-house event was for Brazil-Texas Chamber of Commerce non-members and members\, including CEO&rsquo\;s and directors of the most important groups in the Oil &amp\; Gas sector\, such as United Airlines\, ExxonMobil\, Shell\, BP\, TotalEnergies\, Schlumberger\, Edison Chouest Offshore Group\, Sapura\, OceanPact\, Bradesco\, Chevron\, and others.<br />\n<br />\nBRATECC Continued to Foster Investments in Brazil with Sen. Rogerio Carvalho\, Senator of Brazil for the State of Sergipe\, who attended the networking event and brought news about the opportunities of investments in the energy sector and especially natural gas\, in the State of Sergipe.<br />\n<br />\nWrote&nbsp\; by Daniel Zambrano.&nbsp\;<br />\n<br />\n&nbsp\;
LOCATION:
UID:e.3095.88
SEQUENCE:3
DTSTAMP:20260425T232330Z
URL:https://business.braziltexas.org/events/details/bratecc-cocktail-reception-in-honor-of-anp-director-general-rodolfo-henrique-de-saboia-88
END:VEVENT

END:VCALENDAR
